BEGIN:VCALENDAR
VERSION:2.0
PRODID:-//Castle Rock High School - ECPv6.15.20//NONSGML v1.0//EN
CALSCALE:GREGORIAN
METHOD:PUBLISH
X-ORIGINAL-URL:https://www.crschools.org/hs
X-WR-CALDESC:Events for Castle Rock High School
REFRESH-INTERVAL;VALUE=DURATION:PT1H
X-Robots-Tag:noindex
X-PUBLISHED-TTL:PT1H
BEGIN:VTIMEZONE
TZID:America/Vancouver
BEGIN:DAYLIGHT
TZOFFSETFROM:-0800
TZOFFSETTO:-0700
TZNAME:PDT
DTSTART:20250309T100000
END:DAYLIGHT
BEGIN:STANDARD
TZOFFSETFROM:-0700
TZOFFSETTO:-0800
TZNAME:PST
DTSTART:20251102T090000
END:STANDARD
BEGIN:DAYLIGHT
TZOFFSETFROM:-0800
TZOFFSETTO:-0700
TZNAME:PDT
DTSTART:20260308T100000
END:DAYLIGHT
BEGIN:STANDARD
TZOFFSETFROM:-0700
TZOFFSETTO:-0800
TZNAME:PST
DTSTART:20261101T090000
END:STANDARD
BEGIN:DAYLIGHT
TZOFFSETFROM:-0800
TZOFFSETTO:-0700
TZNAME:PDT
DTSTART:20270314T100000
END:DAYLIGHT
BEGIN:STANDARD
TZOFFSETFROM:-0700
TZOFFSETTO:-0800
TZNAME:PST
DTSTART:20271107T090000
END:STANDARD
END:VTIMEZONE
BEGIN:VEVENT
DTSTART;TZID=America/Vancouver:20260430T160000
DTEND;TZID=America/Vancouver:20260430T173000
DTSTAMP:20260421T104926
CREATED:20260312T090857Z
LAST-MODIFIED:20260421T045327Z
UID:7380-1777564800-1777570200@www.crschools.org
SUMMARY:Girls Varsity Tennis @ La Center High School
DESCRIPTION:Sport: Tennis\nLevel: Girls Varsity\nTeam: Castle Rock High School\nSite: Holley Park (La Center LL)\nSubsite: Tennis Court
URL:https://www.crschools.org/hs/event/girls-varsity-tennis-la-center-high-school/
LOCATION:1000 East 4th Street\, La Center\, WA\, United States
CATEGORIES:District Events
END:VEVENT
BEGIN:VEVENT
DTSTART;TZID=America/Vancouver:20260430T163000
DTEND;TZID=America/Vancouver:20260430T183000
DTSTAMP:20260421T104926
CREATED:20260312T090857Z
LAST-MODIFIED:20260421T045327Z
UID:7378-1777566600-1777573800@www.crschools.org
SUMMARY:Boys Varsity Baseball vs Seton Catholic College Prep
DESCRIPTION:Sport: Baseball\nLevel: Boys Varsity\nTeam: Castle Rock High School\nSite: Castle Rock High School\nSubsite: Baseball – Varsity
URL:https://www.crschools.org/hs/event/boys-varsity-baseball-vs-seton-catholic-college-prep/
LOCATION:5180 Westside Hwy\, Castle Rock\, WA\, United States
CATEGORIES:District Events
END:VEVENT
BEGIN:VEVENT
DTSTART;TZID=America/Vancouver:20260430T180000
DTEND;TZID=America/Vancouver:20260430T193000
DTSTAMP:20260421T104926
CREATED:20260312T090857Z
LAST-MODIFIED:20260421T045327Z
UID:7382-1777572000-1777577400@www.crschools.org
SUMMARY:Girls Varsity Softball @ Seton Catholic College Prep
DESCRIPTION:Sport: Softball\nLevel: Girls Varsity\nTeam: Castle Rock High School\nSite: Seton Catholic College Preparatory\nSubsite: Fort Vancouver High School
URL:https://www.crschools.org/hs/event/girls-varsity-softball-seton-catholic-college-prep/
LOCATION:9000 NE 64th Ave\, Vancouver\, WA\, United States
CATEGORIES:District Events
END:VEVENT
END:VCALENDAR