BEGIN:VCALENDAR
VERSION:2.0
PRODID:-//Castle Rock Middle School - ECPv6.15.20//NONSGML v1.0//EN
CALSCALE:GREGORIAN
METHOD:PUBLISH
X-WR-CALNAME:Castle Rock Middle School
X-ORIGINAL-URL:https://www.crschools.org/ms
X-WR-CALDESC:Events for Castle Rock Middle School
REFRESH-INTERVAL;VALUE=DURATION:PT1H
X-Robots-Tag:noindex
X-PUBLISHED-TTL:PT1H
BEGIN:VTIMEZONE
TZID:America/Vancouver
BEGIN:DAYLIGHT
TZOFFSETFROM:-0800
TZOFFSETTO:-0700
TZNAME:PDT
DTSTART:20230312T100000
END:DAYLIGHT
BEGIN:STANDARD
TZOFFSETFROM:-0700
TZOFFSETTO:-0800
TZNAME:PST
DTSTART:20231105T090000
END:STANDARD
BEGIN:DAYLIGHT
TZOFFSETFROM:-0800
TZOFFSETTO:-0700
TZNAME:PDT
DTSTART:20240310T100000
END:DAYLIGHT
BEGIN:STANDARD
TZOFFSETFROM:-0700
TZOFFSETTO:-0800
TZNAME:PST
DTSTART:20241103T090000
END:STANDARD
BEGIN:DAYLIGHT
TZOFFSETFROM:-0800
TZOFFSETTO:-0700
TZNAME:PDT
DTSTART:20250309T100000
END:DAYLIGHT
BEGIN:STANDARD
TZOFFSETFROM:-0700
TZOFFSETTO:-0800
TZNAME:PST
DTSTART:20251102T090000
END:STANDARD
BEGIN:DAYLIGHT
TZOFFSETFROM:-0800
TZOFFSETTO:-0700
TZNAME:PDT
DTSTART:20260308T100000
END:DAYLIGHT
BEGIN:STANDARD
TZOFFSETFROM:-0700
TZOFFSETTO:-0800
TZNAME:PST
DTSTART:20261101T090000
END:STANDARD
END:VTIMEZONE
BEGIN:VEVENT
DTSTART;TZID=America/Vancouver:20241209T150000
DTEND;TZID=America/Vancouver:20241209T183000
DTSTAMP:20260423T081959
CREATED:20241031T120538Z
LAST-MODIFIED:20241209T162559Z
UID:2593-1733756400-1733769000@www.crschools.org
SUMMARY:MS Boys Basketball -home
DESCRIPTION:
URL:https://www.crschools.org/ms/event/ms-boys-basketball-kalama/
LOCATION:Kalama Middle School\, 550 China Garden Rd\, Kalama\, WA\, United States
CATEGORIES:District Events
END:VEVENT
BEGIN:VEVENT
DTSTART;TZID=America/Vancouver:20241209T173000
DTEND;TZID=America/Vancouver:20241209T200000
DTSTAMP:20260423T081959
CREATED:20241207T162756Z
LAST-MODIFIED:20241209T162559Z
UID:2765-1733765400-1733774400@www.crschools.org
SUMMARY:HS GBB @ R.A.Long
DESCRIPTION:
URL:https://www.crschools.org/ms/event/hs-gbb-r-a-long/
LOCATION:WA
CATEGORIES:District Events
END:VEVENT
BEGIN:VEVENT
DTSTART;VALUE=DATE:20241211
DTEND;VALUE=DATE:20241212
DTSTAMP:20260423T081959
CREATED:20240826T212551Z
LAST-MODIFIED:20241211T162612Z
UID:2128-1733875200-1733961599@www.crschools.org
SUMMARY:1 HR. E.R. Wednesday
DESCRIPTION:
URL:https://www.crschools.org/ms/event/1-hr-e-r-wednesday-2/
LOCATION:WA
CATEGORIES:District Events
END:VEVENT
BEGIN:VEVENT
DTSTART;TZID=America/Vancouver:20241211T160000
DTEND;TZID=America/Vancouver:20241211T193000
DTSTAMP:20260423T081959
CREATED:20241031T120538Z
LAST-MODIFIED:20241211T162612Z
UID:2594-1733932800-1733945400@www.crschools.org
SUMMARY:MS Boys Basketball @ Hockinson
DESCRIPTION:
URL:https://www.crschools.org/ms/event/ms-boys-basketball-crossover/
LOCATION:WA
CATEGORIES:District Events
END:VEVENT
BEGIN:VEVENT
DTSTART;TZID=America/Vancouver:20241212T160000
DTEND;TZID=America/Vancouver:20241212T193000
DTSTAMP:20260423T081959
CREATED:20241031T120538Z
LAST-MODIFIED:20241212T162642Z
UID:2596-1734019200-1734031800@www.crschools.org
SUMMARY:MS JV Wrestling Tournament @ Coweeman
DESCRIPTION:
URL:https://www.crschools.org/ms/event/ms-jv-wrestling-tournament-coweeman/
LOCATION:Coweeman Middle School (CMS)\, 2000 Allen St\, Kelso\, WA\, United States
CATEGORIES:District Events
END:VEVENT
BEGIN:VEVENT
DTSTART;TZID=America/Vancouver:20241212T173000
DTEND;TZID=America/Vancouver:20241212T200000
DTSTAMP:20260423T081959
CREATED:20241207T162756Z
LAST-MODIFIED:20241212T162642Z
UID:2767-1734024600-1734033600@www.crschools.org
SUMMARY:HS -BBB @ Home
DESCRIPTION:
URL:https://www.crschools.org/ms/event/hs-bbb-home/
LOCATION:WA
CATEGORIES:District Events
END:VEVENT
BEGIN:VEVENT
DTSTART;TZID=America/Vancouver:20241212T173000
DTEND;TZID=America/Vancouver:20241212T200000
DTSTAMP:20260423T081959
CREATED:20241207T162756Z
LAST-MODIFIED:20241212T162642Z
UID:2768-1734024600-1734033600@www.crschools.org
SUMMARY:HS GBB @ Tenino
DESCRIPTION:
URL:https://www.crschools.org/ms/event/hs-gbb-tenino/
LOCATION:WA
CATEGORIES:District Events
END:VEVENT
BEGIN:VEVENT
DTSTART;TZID=America/Vancouver:20241213T173000
DTEND;TZID=America/Vancouver:20241213T200000
DTSTAMP:20260423T081959
CREATED:20241207T162757Z
LAST-MODIFIED:20241213T163009Z
UID:2769-1734111000-1734120000@www.crschools.org
SUMMARY:HS GBB @ Rochester
DESCRIPTION:
URL:https://www.crschools.org/ms/event/hs-gbb-rochester/
LOCATION:WA
CATEGORIES:District Events
END:VEVENT
BEGIN:VEVENT
DTSTART;TZID=America/Vancouver:20241213T173000
DTEND;TZID=America/Vancouver:20241213T200000
DTSTAMP:20260423T081959
CREATED:20241207T162757Z
LAST-MODIFIED:20241213T163009Z
UID:2770-1734111000-1734120000@www.crschools.org
SUMMARY:HS -BBB @ Clakskanie
DESCRIPTION:
URL:https://www.crschools.org/ms/event/hs-bbb-clakskanie/
LOCATION:WA
CATEGORIES:District Events
END:VEVENT
BEGIN:VEVENT
DTSTART;TZID=America/Vancouver:20241214T100000
DTEND;TZID=America/Vancouver:20241214T140000
DTSTAMP:20260423T081959
CREATED:20241031T120538Z
LAST-MODIFIED:20241214T162838Z
UID:2598-1734170400-1734184800@www.crschools.org
SUMMARY:MS Varsity Wrestling Tournament
DESCRIPTION:
URL:https://www.crschools.org/ms/event/ms-varsity-wrestling-tournament/
LOCATION:Hockinson
CATEGORIES:District Events
END:VEVENT
BEGIN:VEVENT
DTSTART;TZID=America/Vancouver:20241216T180000
DTEND;TZID=America/Vancouver:20241216T190000
DTSTAMP:20260423T081959
CREATED:20241120T151047Z
LAST-MODIFIED:20241216T164851Z
UID:2672-1734372000-1734375600@www.crschools.org
SUMMARY:HS Winter Concert
DESCRIPTION:
URL:https://www.crschools.org/ms/event/hs-winter-concert/
LOCATION:Castle Rock High School\, 5180 Westside Hwy\, Castle Rock\, WA\, United States
CATEGORIES:District Events
END:VEVENT
BEGIN:VEVENT
DTSTART;TZID=America/Vancouver:20241216T183000
DTEND;TZID=America/Vancouver:20241216T190000
DTSTAMP:20260423T081959
CREATED:20241213T162957Z
LAST-MODIFIED:20241216T164851Z
UID:2861-1734373800-1734375600@www.crschools.org
SUMMARY:MS Band Concert @ HS
DESCRIPTION:
URL:https://www.crschools.org/ms/event/ms-band-concert-hs/
LOCATION:WA
CATEGORIES:District Events
END:VEVENT
BEGIN:VEVENT
DTSTART;TZID=America/Vancouver:20241217T173000
DTEND;TZID=America/Vancouver:20241217T200000
DTSTAMP:20260423T081959
CREATED:20241207T162757Z
LAST-MODIFIED:20241217T165557Z
UID:2771-1734456600-1734465600@www.crschools.org
SUMMARY:HS -BBB @ Home
DESCRIPTION:
URL:https://www.crschools.org/ms/event/hs-bbb-home-2/
LOCATION:WA
CATEGORIES:District Events
END:VEVENT
BEGIN:VEVENT
DTSTART;TZID=America/Vancouver:20241218T170000
DTEND;TZID=America/Vancouver:20241218T180000
DTSTAMP:20260423T081959
CREATED:20240826T212551Z
LAST-MODIFIED:20241218T165547Z
UID:2129-1734541200-1734544800@www.crschools.org
SUMMARY:School Board Mtg. @ CRHS Lib.
DESCRIPTION:
URL:https://www.crschools.org/ms/event/school-board-meeting-22/
LOCATION:Castle Rock High School\, 5180 Westside Hwy\, Castle Rock\, WA\, United States
CATEGORIES:District Events
END:VEVENT
BEGIN:VEVENT
DTSTART;TZID=America/Vancouver:20241218T173000
DTEND;TZID=America/Vancouver:20241218T200000
DTSTAMP:20260423T081959
CREATED:20241207T162757Z
LAST-MODIFIED:20241218T165547Z
UID:2772-1734543000-1734552000@www.crschools.org
SUMMARY:HS GBB @ La Center
DESCRIPTION:
URL:https://www.crschools.org/ms/event/hs-gbb-la-center/
LOCATION:WA
CATEGORIES:District Events
END:VEVENT
BEGIN:VEVENT
DTSTART;TZID=America/Vancouver:20241219T173000
DTEND;TZID=America/Vancouver:20241219T200000
DTSTAMP:20260423T081959
CREATED:20241207T162758Z
LAST-MODIFIED:20241219T170347Z
UID:2773-1734629400-1734638400@www.crschools.org
SUMMARY:HS -BBB @ Home
DESCRIPTION:
URL:https://www.crschools.org/ms/event/hs-bbb-home-3/
LOCATION:WA
CATEGORIES:District Events
END:VEVENT
BEGIN:VEVENT
DTSTART;VALUE=DATE:20241220
DTEND;VALUE=DATE:20241221
DTSTAMP:20260423T081959
CREATED:20240826T212551Z
LAST-MODIFIED:20241220T171421Z
UID:2130-1734652800-1734739199@www.crschools.org
SUMMARY:ER starting @ Noon
DESCRIPTION:
URL:https://www.crschools.org/ms/event/er-starting-noon/
LOCATION:WA
CATEGORIES:District Events
END:VEVENT
BEGIN:VEVENT
DTSTART;TZID=America/Vancouver:20241220T173000
DTEND;TZID=America/Vancouver:20241220T200000
DTSTAMP:20260423T081959
CREATED:20241207T162758Z
LAST-MODIFIED:20241220T171421Z
UID:2774-1734715800-1734724800@www.crschools.org
SUMMARY:HS GBB @ King's Way
DESCRIPTION:
URL:https://www.crschools.org/ms/event/hs-gbb-kings-way/
LOCATION:WA
CATEGORIES:District Events
END:VEVENT
BEGIN:VEVENT
DTSTART;TZID=America/Vancouver:20241221T120000
DTEND;TZID=America/Vancouver:20241221T143000
DTSTAMP:20260423T081959
CREATED:20241207T162758Z
LAST-MODIFIED:20241221T172543Z
UID:2775-1734782400-1734791400@www.crschools.org
SUMMARY:HS -BBB @ Home
DESCRIPTION:
URL:https://www.crschools.org/ms/event/hs-bbb-home-4/
LOCATION:WA
CATEGORIES:District Events
END:VEVENT
BEGIN:VEVENT
DTSTART;VALUE=DATE:20241223
DTEND;VALUE=DATE:20250104
DTSTAMP:20260423T081959
CREATED:20240826T212551Z
LAST-MODIFIED:20250103T192312Z
UID:2131-1734912000-1735948799@www.crschools.org
SUMMARY:Winter Break
DESCRIPTION:
URL:https://www.crschools.org/ms/event/winter-break-2/
LOCATION:WA
CATEGORIES:District Events
END:VEVENT
BEGIN:VEVENT
DTSTART;TZID=America/Vancouver:20241223T120000
DTEND;TZID=America/Vancouver:20241223T143000
DTSTAMP:20260423T081959
CREATED:20241207T162758Z
LAST-MODIFIED:20241223T174054Z
UID:2776-1734955200-1734964200@www.crschools.org
SUMMARY:HS GBB @ Home
DESCRIPTION:
URL:https://www.crschools.org/ms/event/hs-gbb-home/
LOCATION:WA
CATEGORIES:District Events
END:VEVENT
BEGIN:VEVENT
DTSTART;VALUE=DATE:20241224
DTEND;VALUE=DATE:20241225
DTSTAMP:20260423T081959
CREATED:20241120T151047Z
LAST-MODIFIED:20241224T174047Z
UID:2673-1734998400-1735084799@www.crschools.org
SUMMARY:Christmas Eve
DESCRIPTION:
URL:https://www.crschools.org/ms/event/christmas-eve/
LOCATION:WA
CATEGORIES:District Events
END:VEVENT
BEGIN:VEVENT
DTSTART;VALUE=DATE:20241225
DTEND;VALUE=DATE:20241226
DTSTAMP:20260423T081959
CREATED:20241120T151047Z
LAST-MODIFIED:20241225T174152Z
UID:2674-1735084800-1735171199@www.crschools.org
SUMMARY:Christmas Day
DESCRIPTION:
URL:https://www.crschools.org/ms/event/christmas-day/
LOCATION:WA
CATEGORIES:District Events
END:VEVENT
BEGIN:VEVENT
DTSTART;VALUE=DATE:20241231
DTEND;VALUE=DATE:20250101
DTSTAMP:20260423T081959
CREATED:20241120T151048Z
LAST-MODIFIED:20241231T181450Z
UID:2675-1735603200-1735689599@www.crschools.org
SUMMARY:New Year's Eve
DESCRIPTION:
URL:https://www.crschools.org/ms/event/new-years-eve/
LOCATION:WA
CATEGORIES:District Events
END:VEVENT
BEGIN:VEVENT
DTSTART;VALUE=DATE:20250101
DTEND;VALUE=DATE:20250102
DTSTAMP:20260423T081959
CREATED:20241120T151048Z
LAST-MODIFIED:20250101T184052Z
UID:2676-1735689600-1735775999@www.crschools.org
SUMMARY:Happy 2025!
DESCRIPTION:
URL:https://www.crschools.org/ms/event/happy-2025/
LOCATION:WA
CATEGORIES:District Events
END:VEVENT
BEGIN:VEVENT
DTSTART;VALUE=DATE:20250106
DTEND;VALUE=DATE:20250107
DTSTAMP:20260423T081959
CREATED:20240826T212551Z
LAST-MODIFIED:20250106T192600Z
UID:2132-1736121600-1736207999@www.crschools.org
SUMMARY:School Resumes
DESCRIPTION:
URL:https://www.crschools.org/ms/event/school-resumes/
LOCATION:WA
CATEGORIES:District Events
END:VEVENT
BEGIN:VEVENT
DTSTART;TZID=America/Vancouver:20250106T173000
DTEND;TZID=America/Vancouver:20250106T200000
DTSTAMP:20260423T081959
CREATED:20241207T162759Z
LAST-MODIFIED:20250106T192600Z
UID:2777-1736184600-1736193600@www.crschools.org
SUMMARY:HS GBB @ Home
DESCRIPTION:
URL:https://www.crschools.org/ms/event/hs-gbb-home-2/
LOCATION:WA
CATEGORIES:District Events
END:VEVENT
BEGIN:VEVENT
DTSTART;TZID=America/Vancouver:20250107T173000
DTEND;TZID=America/Vancouver:20250107T200000
DTSTAMP:20260423T081959
CREATED:20241207T162759Z
LAST-MODIFIED:20250107T192554Z
UID:2778-1736271000-1736280000@www.crschools.org
SUMMARY:HS -BBB @ Seton
DESCRIPTION:
URL:https://www.crschools.org/ms/event/hs-bbb-seton/
LOCATION:WA
CATEGORIES:District Events
END:VEVENT
BEGIN:VEVENT
DTSTART;VALUE=DATE:20250108
DTEND;VALUE=DATE:20250109
DTSTAMP:20260423T081959
CREATED:20240826T212551Z
LAST-MODIFIED:20250108T193540Z
UID:2133-1736294400-1736380799@www.crschools.org
SUMMARY:1 Hr. E.R. Wednesday
DESCRIPTION:
URL:https://www.crschools.org/ms/event/1-hr-e-r-wednesday-3/
LOCATION:WA
CATEGORIES:District Events
END:VEVENT
BEGIN:VEVENT
DTSTART;TZID=America/Vancouver:20250108T173000
DTEND;TZID=America/Vancouver:20250108T200000
DTSTAMP:20260423T081959
CREATED:20241207T162759Z
LAST-MODIFIED:20250108T193540Z
UID:2779-1736357400-1736366400@www.crschools.org
SUMMARY:HS GBB @ Home
DESCRIPTION:
URL:https://www.crschools.org/ms/event/hs-gbb-home-3/
LOCATION:WA
CATEGORIES:District Events
END:VEVENT
END:VCALENDAR