BEGIN:VCALENDAR
VERSION:2.0
PRODID:-//Castle Rock Middle School - ECPv6.15.20//NONSGML v1.0//EN
CALSCALE:GREGORIAN
METHOD:PUBLISH
X-WR-CALNAME:Castle Rock Middle School
X-ORIGINAL-URL:https://www.crschools.org/ms
X-WR-CALDESC:Events for Castle Rock Middle School
REFRESH-INTERVAL;VALUE=DURATION:PT1H
X-Robots-Tag:noindex
X-PUBLISHED-TTL:PT1H
BEGIN:VTIMEZONE
TZID:America/Vancouver
BEGIN:DAYLIGHT
TZOFFSETFROM:-0800
TZOFFSETTO:-0700
TZNAME:PDT
DTSTART:20240310T100000
END:DAYLIGHT
BEGIN:STANDARD
TZOFFSETFROM:-0700
TZOFFSETTO:-0800
TZNAME:PST
DTSTART:20241103T090000
END:STANDARD
BEGIN:DAYLIGHT
TZOFFSETFROM:-0800
TZOFFSETTO:-0700
TZNAME:PDT
DTSTART:20250309T100000
END:DAYLIGHT
BEGIN:STANDARD
TZOFFSETFROM:-0700
TZOFFSETTO:-0800
TZNAME:PST
DTSTART:20251102T090000
END:STANDARD
BEGIN:DAYLIGHT
TZOFFSETFROM:-0800
TZOFFSETTO:-0700
TZNAME:PDT
DTSTART:20260308T100000
END:DAYLIGHT
BEGIN:STANDARD
TZOFFSETFROM:-0700
TZOFFSETTO:-0800
TZNAME:PST
DTSTART:20261101T090000
END:STANDARD
END:VTIMEZONE
BEGIN:VEVENT
DTSTART;VALUE=DATE:20250127
DTEND;VALUE=DATE:20250128
DTSTAMP:20260422T112040
CREATED:20240826T212552Z
LAST-MODIFIED:20250127T211627Z
UID:2139-1737936000-1738022399@www.crschools.org
SUMMARY:Non-Student Day.
DESCRIPTION:
URL:https://www.crschools.org/ms/event/non-student-day/
LOCATION:WA
CATEGORIES:District Events
END:VEVENT
BEGIN:VEVENT
DTSTART;TZID=America/Vancouver:20250128T173000
DTEND;TZID=America/Vancouver:20250128T200000
DTSTAMP:20260422T112040
CREATED:20241207T162801Z
LAST-MODIFIED:20250128T211712Z
UID:2793-1738085400-1738094400@www.crschools.org
SUMMARY:HS GBB @ FT. Vancouver
DESCRIPTION:
URL:https://www.crschools.org/ms/event/hs-gbb-ft-vancouver/
LOCATION:WA
CATEGORIES:District Events
END:VEVENT
BEGIN:VEVENT
DTSTART;VALUE=DATE:20250129
DTEND;VALUE=DATE:20250130
DTSTAMP:20260422T112040
CREATED:20240826T212552Z
LAST-MODIFIED:20250129T212649Z
UID:2140-1738108800-1738195199@www.crschools.org
SUMMARY:1 Hr. E.R. Wednesday
DESCRIPTION:
URL:https://www.crschools.org/ms/event/1-hr-e-r-wednesday-6/
LOCATION:WA
CATEGORIES:District Events
END:VEVENT
BEGIN:VEVENT
DTSTART;TZID=America/Vancouver:20250129T173000
DTEND;TZID=America/Vancouver:20250129T200000
DTSTAMP:20260422T112040
CREATED:20241207T162802Z
LAST-MODIFIED:20250129T212649Z
UID:2794-1738171800-1738180800@www.crschools.org
SUMMARY:HS -BBB @ FT. Vancouver
DESCRIPTION:
URL:https://www.crschools.org/ms/event/hs-bbb-ft-vancouver/
LOCATION:WA
CATEGORIES:District Events
END:VEVENT
BEGIN:VEVENT
DTSTART;TZID=America/Vancouver:20250130T173000
DTEND;TZID=America/Vancouver:20250130T200000
DTSTAMP:20260422T112040
CREATED:20241207T162802Z
LAST-MODIFIED:20250130T214047Z
UID:2795-1738258200-1738267200@www.crschools.org
SUMMARY:HS GBB @ Stevenson
DESCRIPTION:
URL:https://www.crschools.org/ms/event/hs-gbb-stevenson/
LOCATION:WA
CATEGORIES:District Events
END:VEVENT
BEGIN:VEVENT
DTSTART;TZID=America/Vancouver:20250131T173000
DTEND;TZID=America/Vancouver:20250131T200000
DTSTAMP:20260422T112040
CREATED:20241207T162802Z
LAST-MODIFIED:20250131T214051Z
UID:2796-1738344600-1738353600@www.crschools.org
SUMMARY:HS -BBB @ Home
DESCRIPTION:
URL:https://www.crschools.org/ms/event/hs-bbb-home-8/
LOCATION:WA
CATEGORIES:District Events
END:VEVENT
BEGIN:VEVENT
DTSTART;TZID=America/Vancouver:20250204T173000
DTEND;TZID=America/Vancouver:20250204T200000
DTSTAMP:20260422T112040
CREATED:20241207T162802Z
LAST-MODIFIED:20250204T220028Z
UID:2797-1738690200-1738699200@www.crschools.org
SUMMARY:HS GBB @ Home  -Senior Night
DESCRIPTION:
URL:https://www.crschools.org/ms/event/hs-gbb-home-senior-night/
LOCATION:WA
CATEGORIES:District Events
END:VEVENT
BEGIN:VEVENT
DTSTART;VALUE=DATE:20250205
DTEND;VALUE=DATE:20250206
DTSTAMP:20260422T112040
CREATED:20240826T212552Z
LAST-MODIFIED:20250205T221130Z
UID:2141-1738713600-1738799999@www.crschools.org
SUMMARY:1 Hr. E.R. Wednesday
DESCRIPTION:
URL:https://www.crschools.org/ms/event/1-hr-e-r-wednesday-7/
LOCATION:WA
CATEGORIES:District Events
END:VEVENT
BEGIN:VEVENT
DTSTART;TZID=America/Vancouver:20250205T173000
DTEND;TZID=America/Vancouver:20250205T200000
DTSTAMP:20260422T112040
CREATED:20241207T162803Z
LAST-MODIFIED:20250205T221130Z
UID:2798-1738776600-1738785600@www.crschools.org
SUMMARY:HS -BBB @ White Salmon
DESCRIPTION:
URL:https://www.crschools.org/ms/event/hs-bbb-white-salmon/
LOCATION:WA
CATEGORIES:District Events
END:VEVENT
BEGIN:VEVENT
DTSTART;TZID=America/Vancouver:20250206T173000
DTEND;TZID=America/Vancouver:20250206T200000
DTSTAMP:20260422T112040
CREATED:20241207T162803Z
LAST-MODIFIED:20250206T221407Z
UID:2799-1738863000-1738872000@www.crschools.org
SUMMARY:HS GBB @ Kalama
DESCRIPTION:
URL:https://www.crschools.org/ms/event/hs-gbb-kalama/
LOCATION:WA
CATEGORIES:District Events
END:VEVENT
BEGIN:VEVENT
DTSTART;TZID=America/Vancouver:20250207T173000
DTEND;TZID=America/Vancouver:20250207T200000
DTSTAMP:20260422T112040
CREATED:20241207T162803Z
LAST-MODIFIED:20250207T221045Z
UID:2800-1738949400-1738958400@www.crschools.org
SUMMARY:HS -BBB @ Home   Senior Night
DESCRIPTION:
URL:https://www.crschools.org/ms/event/hs-bbb-home-senior-night/
LOCATION:WA
CATEGORIES:District Events
END:VEVENT
BEGIN:VEVENT
DTSTART;TZID=America/Vancouver:20250210T153000
DTEND;TZID=America/Vancouver:20250210T180000
DTSTAMP:20260422T112040
CREATED:20250131T214046Z
LAST-MODIFIED:20250210T221404Z
UID:3020-1739201400-1739210400@www.crschools.org
SUMMARY:MS Girls BB vs .Coweeman
DESCRIPTION:
URL:https://www.crschools.org/ms/event/ms-girls-bb-vs-coweeman/
LOCATION:WA
CATEGORIES:District Events
END:VEVENT
BEGIN:VEVENT
DTSTART;VALUE=DATE:20250212
DTEND;VALUE=DATE:20250213
DTSTAMP:20260422T112040
CREATED:20240826T212552Z
LAST-MODIFIED:20250212T222927Z
UID:2142-1739318400-1739404799@www.crschools.org
SUMMARY:1 Hr. E.R. Wednesday
DESCRIPTION:
URL:https://www.crschools.org/ms/event/1-hr-e-r-wednesday-8/
LOCATION:WA
CATEGORIES:District Events
END:VEVENT
BEGIN:VEVENT
DTSTART;TZID=America/Vancouver:20250212T160000
DTEND;TZID=America/Vancouver:20250212T180000
DTSTAMP:20260422T112040
CREATED:20250131T214047Z
LAST-MODIFIED:20250212T222927Z
UID:3021-1739376000-1739383200@www.crschools.org
SUMMARY:MS Girls BB @ Kalama
DESCRIPTION:
URL:https://www.crschools.org/ms/event/ms-girls-bb-kalama/
LOCATION:WA
CATEGORIES:District Events
END:VEVENT
BEGIN:VEVENT
DTSTART;TZID=America/Vancouver:20250212T180000
DTEND;TZID=America/Vancouver:20250212T193000
DTSTAMP:20260422T112040
CREATED:20240826T212553Z
LAST-MODIFIED:20250212T222927Z
UID:2143-1739383200-1739388600@www.crschools.org
SUMMARY:School Board Mtg.
DESCRIPTION:
URL:https://www.crschools.org/ms/event/school-board-mtg-3/
LOCATION:620 Roake Ave SE\, Castle Rock\, WA\, United States
CATEGORIES:District Events
END:VEVENT
BEGIN:VEVENT
DTSTART;TZID=America/Vancouver:20250213T160000
DTEND;TZID=America/Vancouver:20250213T180000
DTSTAMP:20260422T112040
CREATED:20250131T214047Z
LAST-MODIFIED:20250213T223129Z
UID:3022-1739462400-1739469600@www.crschools.org
SUMMARY:Knowledge Bowl @ LaCenter
DESCRIPTION:
URL:https://www.crschools.org/ms/event/knowledge-bowl-lacenter/
LOCATION:WA
CATEGORIES:District Events
END:VEVENT
BEGIN:VEVENT
DTSTART;VALUE=DATE:20250217
DTEND;VALUE=DATE:20250218
DTSTAMP:20260422T112040
CREATED:20240826T212553Z
LAST-MODIFIED:20250217T231245Z
UID:2144-1739750400-1739836799@www.crschools.org
SUMMARY:No School -President's Day
DESCRIPTION:
URL:https://www.crschools.org/ms/event/no-school-presidents-day-2/
LOCATION:WA
CATEGORIES:District Events
END:VEVENT
BEGIN:VEVENT
DTSTART;VALUE=DATE:20250219
DTEND;VALUE=DATE:20250220
DTSTAMP:20260422T112040
CREATED:20240826T212553Z
LAST-MODIFIED:20250219T232552Z
UID:2145-1739923200-1740009599@www.crschools.org
SUMMARY:1 Hr. E.R. Wednesday
DESCRIPTION:
URL:https://www.crschools.org/ms/event/1-hr-e-r-wednesday-9/
LOCATION:WA
CATEGORIES:District Events
END:VEVENT
BEGIN:VEVENT
DTSTART;TZID=America/Vancouver:20250219T153000
DTEND;TZID=America/Vancouver:20250219T180000
DTSTAMP:20260422T112040
CREATED:20250131T214047Z
LAST-MODIFIED:20250219T232552Z
UID:3023-1739979000-1739988000@www.crschools.org
SUMMARY:MS Girls BB @ Cascade
DESCRIPTION:
URL:https://www.crschools.org/ms/event/ms-girls-bb-cascade-2/
LOCATION:WA
CATEGORIES:District Events
END:VEVENT
BEGIN:VEVENT
DTSTART;TZID=America/Vancouver:20250219T160000
DTEND;TZID=America/Vancouver:20250219T180000
DTSTAMP:20260422T112040
CREATED:20250218T231049Z
LAST-MODIFIED:20250219T232552Z
UID:3099-1739980800-1739988000@www.crschools.org
SUMMARY:Knowledge Bowl @ Coweeman
DESCRIPTION:
URL:https://www.crschools.org/ms/event/knowledge-bowl-coweeman-2/
LOCATION:WA
CATEGORIES:District Events
END:VEVENT
BEGIN:VEVENT
DTSTART;TZID=America/Vancouver:20250224T153000
DTEND;TZID=America/Vancouver:20250224T180000
DTSTAMP:20260422T112040
CREATED:20250131T214047Z
LAST-MODIFIED:20250224T233041Z
UID:3024-1740411000-1740420000@www.crschools.org
SUMMARY:MS Girls BB vs. Mt. Solo
DESCRIPTION:
URL:https://www.crschools.org/ms/event/ms-girls-bb-vs-mt-solo/
LOCATION:WA
CATEGORIES:District Events
END:VEVENT
BEGIN:VEVENT
DTSTART;TZID=America/Vancouver:20250225T151500
DTEND;TZID=America/Vancouver:20250225T154500
DTSTAMP:20260422T112040
CREATED:20250218T231050Z
LAST-MODIFIED:20250225T234313Z
UID:3100-1740496500-1740498300@www.crschools.org
SUMMARY:GBB Picture Day
DESCRIPTION:
URL:https://www.crschools.org/ms/event/gbb-picture-day/
LOCATION:WA
CATEGORIES:District Events
END:VEVENT
BEGIN:VEVENT
DTSTART;VALUE=DATE:20250226
DTEND;VALUE=DATE:20250227
DTSTAMP:20260422T112040
CREATED:20240826T212553Z
LAST-MODIFIED:20250226T234333Z
UID:2146-1740528000-1740614399@www.crschools.org
SUMMARY:1 Hr. E.R. Wednesday
DESCRIPTION:
URL:https://www.crschools.org/ms/event/1-hr-e-r-wednesday-10/
LOCATION:WA
CATEGORIES:District Events
END:VEVENT
BEGIN:VEVENT
DTSTART;TZID=America/Vancouver:20250226T153000
DTEND;TZID=America/Vancouver:20250226T180000
DTSTAMP:20260422T112040
CREATED:20250131T214047Z
LAST-MODIFIED:20250226T234334Z
UID:3025-1740583800-1740592800@www.crschools.org
SUMMARY:MS Girls BB @ Monticello
DESCRIPTION:
URL:https://www.crschools.org/ms/event/ms-girls-bb-monticello-2/
LOCATION:WA
CATEGORIES:District Events
END:VEVENT
BEGIN:VEVENT
DTSTART;TZID=America/Vancouver:20250226T180000
DTEND;TZID=America/Vancouver:20250226T190000
DTSTAMP:20260422T112040
CREATED:20240826T212553Z
LAST-MODIFIED:20250226T234334Z
UID:2147-1740592800-1740596400@www.crschools.org
SUMMARY:School Board Mtg.
DESCRIPTION:
URL:https://www.crschools.org/ms/event/school-board-mtg-4/
LOCATION:620 Roake Ave SE\, Castle Rock\, WA\, United States
CATEGORIES:District Events
END:VEVENT
BEGIN:VEVENT
DTSTART;TZID=America/Vancouver:20250227T160000
DTEND;TZID=America/Vancouver:20250227T180000
DTSTAMP:20260422T112040
CREATED:20250131T214048Z
LAST-MODIFIED:20250227T235551Z
UID:3026-1740672000-1740679200@www.crschools.org
SUMMARY:Knowledge Bowl - host
DESCRIPTION:
URL:https://www.crschools.org/ms/event/knowledge-bowl-host/
LOCATION:WA
CATEGORIES:District Events
END:VEVENT
BEGIN:VEVENT
DTSTART;TZID=America/Vancouver:20250303T153000
DTEND;TZID=America/Vancouver:20250303T180000
DTSTAMP:20260422T112040
CREATED:20250131T214048Z
LAST-MODIFIED:20250303T235608Z
UID:3027-1741015800-1741024800@www.crschools.org
SUMMARY:MS Girls BB  vs Huntington
DESCRIPTION:
URL:https://www.crschools.org/ms/event/ms-girls-bb-vs-huntington/
LOCATION:WA
CATEGORIES:District Events
END:VEVENT
BEGIN:VEVENT
DTSTART;VALUE=DATE:20250305
DTEND;VALUE=DATE:20250306
DTSTAMP:20260422T112040
CREATED:20240826T212553Z
LAST-MODIFIED:20250305T235547Z
UID:2148-1741132800-1741219199@www.crschools.org
SUMMARY:1 Hr. E.R. Wednesday
DESCRIPTION:
URL:https://www.crschools.org/ms/event/1-hr-e-r-wednesday-11/
LOCATION:WA
CATEGORIES:District Events
END:VEVENT
BEGIN:VEVENT
DTSTART;TZID=America/Vancouver:20250305T153000
DTEND;TZID=America/Vancouver:20250305T180000
DTSTAMP:20260422T112040
CREATED:20250131T214048Z
LAST-MODIFIED:20250305T235547Z
UID:3028-1741188600-1741197600@www.crschools.org
SUMMARY:MS Girls BB @ King's Way
DESCRIPTION:
URL:https://www.crschools.org/ms/event/ms-girls-bb-kings-way/
LOCATION:WA
CATEGORIES:District Events
END:VEVENT
BEGIN:VEVENT
DTSTART;TZID=America/Vancouver:20250306T160000
DTEND;TZID=America/Vancouver:20250306T180000
DTSTAMP:20260422T112040
CREATED:20250131T214048Z
LAST-MODIFIED:20250306T235607Z
UID:3029-1741276800-1741284000@www.crschools.org
SUMMARY:Knowledge Bowl @ Hockinson
DESCRIPTION:
URL:https://www.crschools.org/ms/event/knowledge-bowl-hockinson/
LOCATION:WA
CATEGORIES:District Events
END:VEVENT
END:VCALENDAR