BEGIN:VCALENDAR
VERSION:2.0
PRODID:-//Castle Rock Primary School - ECPv6.15.20//NONSGML v1.0//EN
CALSCALE:GREGORIAN
METHOD:PUBLISH
X-WR-CALNAME:Castle Rock Primary School
X-ORIGINAL-URL:https://www.crschools.org/ps
X-WR-CALDESC:Events for Castle Rock Primary School
REFRESH-INTERVAL;VALUE=DURATION:PT1H
X-Robots-Tag:noindex
X-PUBLISHED-TTL:PT1H
BEGIN:VTIMEZONE
TZID:America/Vancouver
BEGIN:DAYLIGHT
TZOFFSETFROM:-0800
TZOFFSETTO:-0700
TZNAME:PDT
DTSTART:20250309T100000
END:DAYLIGHT
BEGIN:STANDARD
TZOFFSETFROM:-0700
TZOFFSETTO:-0800
TZNAME:PST
DTSTART:20251102T090000
END:STANDARD
BEGIN:DAYLIGHT
TZOFFSETFROM:-0800
TZOFFSETTO:-0700
TZNAME:PDT
DTSTART:20260308T100000
END:DAYLIGHT
BEGIN:STANDARD
TZOFFSETFROM:-0700
TZOFFSETTO:-0800
TZNAME:PST
DTSTART:20261101T090000
END:STANDARD
BEGIN:DAYLIGHT
TZOFFSETFROM:-0800
TZOFFSETTO:-0700
TZNAME:PDT
DTSTART:20270314T100000
END:DAYLIGHT
BEGIN:STANDARD
TZOFFSETFROM:-0700
TZOFFSETTO:-0800
TZNAME:PST
DTSTART:20271107T090000
END:STANDARD
BEGIN:DAYLIGHT
TZOFFSETFROM:-0800
TZOFFSETTO:-0700
TZNAME:PDT
DTSTART:20280312T100000
END:DAYLIGHT
BEGIN:STANDARD
TZOFFSETFROM:-0700
TZOFFSETTO:-0800
TZNAME:PST
DTSTART:20281105T090000
END:STANDARD
END:VTIMEZONE
BEGIN:VEVENT
DTSTART;VALUE=DATE:20260612
DTEND;VALUE=DATE:20260613
DTSTAMP:20260421T130449
CREATED:20250710T105016Z
LAST-MODIFIED:20260421T044932Z
UID:3724-1781222400-1781308799@www.crschools.org
SUMMARY:GRADUATION
DESCRIPTION:
URL:https://www.crschools.org/ps/event/graduation-3/
LOCATION:WA
CATEGORIES:District Events
END:VEVENT
BEGIN:VEVENT
DTSTART;VALUE=DATE:20260616
DTEND;VALUE=DATE:20260617
DTSTAMP:20260421T130449
CREATED:20250710T105016Z
LAST-MODIFIED:20260421T044932Z
UID:3725-1781568000-1781654399@www.crschools.org
SUMMARY:LAST DAY OF SCHOOL
DESCRIPTION:
URL:https://www.crschools.org/ps/event/last-day-of-school-2/
LOCATION:WA
CATEGORIES:District Events
END:VEVENT
BEGIN:VEVENT
DTSTART;TZID=America/Vancouver:20260616T121000
DTEND;TZID=America/Vancouver:20260616T131000
DTSTAMP:20260421T130449
CREATED:20250710T105016Z
LAST-MODIFIED:20260421T044932Z
UID:3726-1781611800-1781615400@www.crschools.org
SUMMARY:Early Release
DESCRIPTION:
URL:https://www.crschools.org/ps/event/early-release-2/
LOCATION:WA
CATEGORIES:District Events
END:VEVENT
BEGIN:VEVENT
DTSTART;VALUE=DATE:20260619
DTEND;VALUE=DATE:20260620
DTSTAMP:20260421T130449
CREATED:20250710T105016Z
LAST-MODIFIED:20260421T044932Z
UID:3727-1781827200-1781913599@www.crschools.org
SUMMARY:Juneteenth
DESCRIPTION:
URL:https://www.crschools.org/ps/event/juneteenth/
LOCATION:WA
CATEGORIES:District Events
END:VEVENT
BEGIN:VEVENT
DTSTART;TZID=America/Vancouver:20260624T180000
DTEND;TZID=America/Vancouver:20260624T193000
DTSTAMP:20260421T130449
CREATED:20250710T105017Z
LAST-MODIFIED:20260421T044932Z
UID:3728-1782324000-1782329400@www.crschools.org
SUMMARY:School Board Mtg.
DESCRIPTION:
URL:https://www.crschools.org/ps/event/school-board-mtg-19/
LOCATION:Castle Rock High School\, 5180 Westside Hwy\, Castle Rock\, WA\, United States
CATEGORIES:District Events
END:VEVENT
BEGIN:VEVENT
DTSTART;TZID=America/Vancouver:20260624T180000
DTEND;TZID=America/Vancouver:20260624T193000
DTSTAMP:20260421T130449
CREATED:20260327T100417Z
LAST-MODIFIED:20260421T044933Z
UID:7039-1782324000-1782329400@www.crschools.org
SUMMARY:Board Meeting
DESCRIPTION:
URL:https://www.crschools.org/ps/event/board-meeting-4/
LOCATION:Castle Rock High School\, 5180 Westside Hwy\, Castle Rock\, WA\, United States
CATEGORIES:District Events
END:VEVENT
BEGIN:VEVENT
DTSTART;TZID=America/Vancouver:20260708T180000
DTEND;TZID=America/Vancouver:20260708T193000
DTSTAMP:20260421T130449
CREATED:20250710T105017Z
LAST-MODIFIED:20260421T044933Z
UID:3729-1783533600-1783539000@www.crschools.org
SUMMARY:School Board Work Session
DESCRIPTION:
URL:https://www.crschools.org/ps/event/school-board-work-session-10/
LOCATION:Castle Rock High School\, 5180 Westside Hwy\, Castle Rock\, WA\, United States
CATEGORIES:District Events
END:VEVENT
BEGIN:VEVENT
DTSTART;TZID=America/Vancouver:20260722T180000
DTEND;TZID=America/Vancouver:20260722T193000
DTSTAMP:20260421T130449
CREATED:20250710T105017Z
LAST-MODIFIED:20260421T044933Z
UID:3730-1784743200-1784748600@www.crschools.org
SUMMARY:School Board Mtg.
DESCRIPTION:
URL:https://www.crschools.org/ps/event/school-board-mtg-20/
LOCATION:Castle Rock High School\, 5180 Westside Hwy\, Castle Rock\, WA\, United States
CATEGORIES:District Events
END:VEVENT
BEGIN:VEVENT
DTSTART;TZID=America/Vancouver:20260722T180000
DTEND;TZID=America/Vancouver:20260722T193000
DTSTAMP:20260421T130449
CREATED:20260327T100417Z
LAST-MODIFIED:20260421T044933Z
UID:7040-1784743200-1784748600@www.crschools.org
SUMMARY:Board Meeting
DESCRIPTION:
URL:https://www.crschools.org/ps/event/board-meeting-5/
LOCATION:Castle Rock High School\, 5180 Westside Hwy\, Castle Rock\, WA\, United States
CATEGORIES:District Events
END:VEVENT
BEGIN:VEVENT
DTSTART;TZID=America/Vancouver:20260826T180000
DTEND;TZID=America/Vancouver:20260826T193000
DTSTAMP:20260421T130449
CREATED:20250710T105017Z
LAST-MODIFIED:20260421T044933Z
UID:3731-1787767200-1787772600@www.crschools.org
SUMMARY:School Board Mtg.
DESCRIPTION:
URL:https://www.crschools.org/ps/event/school-board-mtg-21/
LOCATION:Castle Rock High School\, 5180 Westside Hwy\, Castle Rock\, WA\, United States
CATEGORIES:District Events
END:VEVENT
BEGIN:VEVENT
DTSTART;TZID=America/Vancouver:20260826T180000
DTEND;TZID=America/Vancouver:20260826T193000
DTSTAMP:20260421T130449
CREATED:20260327T100417Z
LAST-MODIFIED:20260421T044933Z
UID:7041-1787767200-1787772600@www.crschools.org
SUMMARY:Board Meeting
DESCRIPTION:
URL:https://www.crschools.org/ps/event/board-meeting-6/
LOCATION:Castle Rock High School\, 5180 Westside Hwy\, Castle Rock\, WA\, United States
CATEGORIES:District Events
END:VEVENT
BEGIN:VEVENT
DTSTART;TZID=America/Vancouver:20260923T180000
DTEND;TZID=America/Vancouver:20260923T193000
DTSTAMP:20260421T130449
CREATED:20250710T105017Z
LAST-MODIFIED:20260421T044933Z
UID:3732-1790186400-1790191800@www.crschools.org
SUMMARY:School Board Mtg.
DESCRIPTION:
URL:https://www.crschools.org/ps/event/school-board-mtg-22/
LOCATION:Castle Rock High School\, 5180 Westside Hwy\, Castle Rock\, WA\, United States
CATEGORIES:District Events
END:VEVENT
BEGIN:VEVENT
DTSTART;TZID=America/Vancouver:20260923T180000
DTEND;TZID=America/Vancouver:20260923T193000
DTSTAMP:20260421T130449
CREATED:20260327T100417Z
LAST-MODIFIED:20260421T044933Z
UID:7042-1790186400-1790191800@www.crschools.org
SUMMARY:Board Meeting
DESCRIPTION:
URL:https://www.crschools.org/ps/event/board-meeting-7/
LOCATION:Castle Rock High School\, 5180 Westside Hwy\, Castle Rock\, WA\, United States
CATEGORIES:District Events
END:VEVENT
BEGIN:VEVENT
DTSTART;TZID=America/Vancouver:20261028T180000
DTEND;TZID=America/Vancouver:20261028T193000
DTSTAMP:20260421T130449
CREATED:20250710T105017Z
LAST-MODIFIED:20260421T044933Z
UID:3733-1793210400-1793215800@www.crschools.org
SUMMARY:School Board Mtg.
DESCRIPTION:
URL:https://www.crschools.org/ps/event/school-board-mtg-23/
LOCATION:Castle Rock High School\, 5180 Westside Hwy\, Castle Rock\, WA\, United States
CATEGORIES:District Events
END:VEVENT
BEGIN:VEVENT
DTSTART;TZID=America/Vancouver:20261028T180000
DTEND;TZID=America/Vancouver:20261028T193000
DTSTAMP:20260421T130449
CREATED:20260327T100418Z
LAST-MODIFIED:20260421T044933Z
UID:7043-1793210400-1793215800@www.crschools.org
SUMMARY:Board Meeting
DESCRIPTION:
URL:https://www.crschools.org/ps/event/board-meeting-8/
LOCATION:Castle Rock High School\, 5180 Westside Hwy\, Castle Rock\, WA\, United States
CATEGORIES:District Events
END:VEVENT
BEGIN:VEVENT
DTSTART;TZID=America/Vancouver:20261125T180000
DTEND;TZID=America/Vancouver:20261125T193000
DTSTAMP:20260421T130449
CREATED:20250710T105018Z
LAST-MODIFIED:20260421T044933Z
UID:3734-1795629600-1795635000@www.crschools.org
SUMMARY:School Board Mtg.
DESCRIPTION:
URL:https://www.crschools.org/ps/event/school-board-mtg-24/
LOCATION:Castle Rock High School\, 5180 Westside Hwy\, Castle Rock\, WA\, United States
CATEGORIES:District Events
END:VEVENT
BEGIN:VEVENT
DTSTART;TZID=America/Vancouver:20261125T180000
DTEND;TZID=America/Vancouver:20261125T193000
DTSTAMP:20260421T130449
CREATED:20260327T100418Z
LAST-MODIFIED:20260421T044933Z
UID:7044-1795629600-1795635000@www.crschools.org
SUMMARY:Board Meeting
DESCRIPTION:
URL:https://www.crschools.org/ps/event/board-meeting-9/
LOCATION:Castle Rock High School\, 5180 Westside Hwy\, Castle Rock\, WA\, United States
CATEGORIES:District Events
END:VEVENT
BEGIN:VEVENT
DTSTART;TZID=America/Vancouver:20261223T180000
DTEND;TZID=America/Vancouver:20261223T193000
DTSTAMP:20260421T130449
CREATED:20250710T105018Z
LAST-MODIFIED:20260421T044933Z
UID:3735-1798048800-1798054200@www.crschools.org
SUMMARY:School Board Mtg.
DESCRIPTION:
URL:https://www.crschools.org/ps/event/school-board-mtg-25/
LOCATION:Castle Rock High School\, 5180 Westside Hwy\, Castle Rock\, WA\, United States
CATEGORIES:District Events
END:VEVENT
BEGIN:VEVENT
DTSTART;TZID=America/Vancouver:20261223T180000
DTEND;TZID=America/Vancouver:20261223T193000
DTSTAMP:20260421T130449
CREATED:20260327T100418Z
LAST-MODIFIED:20260421T044933Z
UID:7045-1798048800-1798054200@www.crschools.org
SUMMARY:Board Meeting
DESCRIPTION:
URL:https://www.crschools.org/ps/event/board-meeting-10/
LOCATION:Castle Rock High School\, 5180 Westside Hwy\, Castle Rock\, WA\, United States
CATEGORIES:District Events
END:VEVENT
BEGIN:VEVENT
DTSTART;TZID=America/Vancouver:20270127T180000
DTEND;TZID=America/Vancouver:20270127T193000
DTSTAMP:20260421T130449
CREATED:20250710T105018Z
LAST-MODIFIED:20260421T044933Z
UID:3736-1801072800-1801078200@www.crschools.org
SUMMARY:School Board Mtg.
DESCRIPTION:
URL:https://www.crschools.org/ps/event/school-board-mtg-26/
LOCATION:Castle Rock High School\, 5180 Westside Hwy\, Castle Rock\, WA\, United States
CATEGORIES:District Events
END:VEVENT
BEGIN:VEVENT
DTSTART;TZID=America/Vancouver:20270127T180000
DTEND;TZID=America/Vancouver:20270127T193000
DTSTAMP:20260421T130449
CREATED:20260327T100418Z
LAST-MODIFIED:20260421T044933Z
UID:7046-1801072800-1801078200@www.crschools.org
SUMMARY:Board Meeting
DESCRIPTION:
URL:https://www.crschools.org/ps/event/board-meeting-11/
LOCATION:Castle Rock High School\, 5180 Westside Hwy\, Castle Rock\, WA\, United States
CATEGORIES:District Events
END:VEVENT
BEGIN:VEVENT
DTSTART;TZID=America/Vancouver:20270224T180000
DTEND;TZID=America/Vancouver:20270224T193000
DTSTAMP:20260421T130449
CREATED:20250710T105018Z
LAST-MODIFIED:20260421T044934Z
UID:3737-1803492000-1803497400@www.crschools.org
SUMMARY:School Board Mtg.
DESCRIPTION:
URL:https://www.crschools.org/ps/event/school-board-mtg-27/
LOCATION:Castle Rock High School\, 5180 Westside Hwy\, Castle Rock\, WA\, United States
CATEGORIES:District Events
END:VEVENT
BEGIN:VEVENT
DTSTART;TZID=America/Vancouver:20270224T180000
DTEND;TZID=America/Vancouver:20270224T193000
DTSTAMP:20260421T130449
CREATED:20260327T100418Z
LAST-MODIFIED:20260421T044934Z
UID:7047-1803492000-1803497400@www.crschools.org
SUMMARY:Board Meeting
DESCRIPTION:
URL:https://www.crschools.org/ps/event/board-meeting-12/
LOCATION:Castle Rock High School\, 5180 Westside Hwy\, Castle Rock\, WA\, United States
CATEGORIES:District Events
END:VEVENT
BEGIN:VEVENT
DTSTART;TZID=America/Vancouver:20270324T180000
DTEND;TZID=America/Vancouver:20270324T193000
DTSTAMP:20260421T130449
CREATED:20250710T105019Z
LAST-MODIFIED:20260421T044934Z
UID:3738-1805911200-1805916600@www.crschools.org
SUMMARY:School Board Mtg.
DESCRIPTION:
URL:https://www.crschools.org/ps/event/school-board-mtg-28/
LOCATION:Castle Rock High School\, 5180 Westside Hwy\, Castle Rock\, WA\, United States
CATEGORIES:District Events
END:VEVENT
BEGIN:VEVENT
DTSTART;TZID=America/Vancouver:20270324T180000
DTEND;TZID=America/Vancouver:20270324T193000
DTSTAMP:20260421T130449
CREATED:20260327T100419Z
LAST-MODIFIED:20260421T044934Z
UID:7048-1805911200-1805916600@www.crschools.org
SUMMARY:Board Meeting
DESCRIPTION:
URL:https://www.crschools.org/ps/event/board-meeting-13/
LOCATION:Castle Rock High School\, 5180 Westside Hwy\, Castle Rock\, WA\, United States
CATEGORIES:District Events
END:VEVENT
BEGIN:VEVENT
DTSTART;TZID=America/Vancouver:20270428T180000
DTEND;TZID=America/Vancouver:20270428T193000
DTSTAMP:20260421T130449
CREATED:20250710T105019Z
LAST-MODIFIED:20260421T044934Z
UID:3739-1808935200-1808940600@www.crschools.org
SUMMARY:School Board Mtg.
DESCRIPTION:
URL:https://www.crschools.org/ps/event/school-board-mtg-29/
LOCATION:Castle Rock High School\, 5180 Westside Hwy\, Castle Rock\, WA\, United States
CATEGORIES:District Events
END:VEVENT
BEGIN:VEVENT
DTSTART;TZID=America/Vancouver:20270428T180000
DTEND;TZID=America/Vancouver:20270428T193000
DTSTAMP:20260421T130449
CREATED:20260327T100419Z
LAST-MODIFIED:20260421T044934Z
UID:7049-1808935200-1808940600@www.crschools.org
SUMMARY:Board Meeting
DESCRIPTION:
URL:https://www.crschools.org/ps/event/board-meeting-14/
LOCATION:Castle Rock High School\, 5180 Westside Hwy\, Castle Rock\, WA\, United States
CATEGORIES:District Events
END:VEVENT
BEGIN:VEVENT
DTSTART;TZID=America/Vancouver:20270526T180000
DTEND;TZID=America/Vancouver:20270526T193000
DTSTAMP:20260421T130449
CREATED:20250710T105019Z
LAST-MODIFIED:20260421T044934Z
UID:3740-1811354400-1811359800@www.crschools.org
SUMMARY:School Board Mtg.
DESCRIPTION:
URL:https://www.crschools.org/ps/event/school-board-mtg-30/
LOCATION:Castle Rock High School\, 5180 Westside Hwy\, Castle Rock\, WA\, United States
CATEGORIES:District Events
END:VEVENT
BEGIN:VEVENT
DTSTART;TZID=America/Vancouver:20270526T180000
DTEND;TZID=America/Vancouver:20270526T193000
DTSTAMP:20260421T130449
CREATED:20260327T100419Z
LAST-MODIFIED:20260421T044934Z
UID:7050-1811354400-1811359800@www.crschools.org
SUMMARY:Board Meeting
DESCRIPTION:
URL:https://www.crschools.org/ps/event/board-meeting-15/
LOCATION:Castle Rock High School\, 5180 Westside Hwy\, Castle Rock\, WA\, United States
CATEGORIES:District Events
END:VEVENT
BEGIN:VEVENT
DTSTART;TZID=America/Vancouver:20270623T180000
DTEND;TZID=America/Vancouver:20270623T193000
DTSTAMP:20260421T130449
CREATED:20250710T105019Z
LAST-MODIFIED:20260421T044934Z
UID:3741-1813773600-1813779000@www.crschools.org
SUMMARY:School Board Mtg.
DESCRIPTION:
URL:https://www.crschools.org/ps/event/school-board-mtg-31/
LOCATION:Castle Rock High School\, 5180 Westside Hwy\, Castle Rock\, WA\, United States
CATEGORIES:District Events
END:VEVENT
END:VCALENDAR