BEGIN:VCALENDAR
VERSION:2.0
PRODID:-//Castle Rock Primary School - ECPv6.15.20//NONSGML v1.0//EN
CALSCALE:GREGORIAN
METHOD:PUBLISH
X-WR-CALNAME:Castle Rock Primary School
X-ORIGINAL-URL:https://www.crschools.org/ps
X-WR-CALDESC:Events for Castle Rock Primary School
REFRESH-INTERVAL;VALUE=DURATION:PT1H
X-Robots-Tag:noindex
X-PUBLISHED-TTL:PT1H
BEGIN:VTIMEZONE
TZID:America/Vancouver
BEGIN:DAYLIGHT
TZOFFSETFROM:-0800
TZOFFSETTO:-0700
TZNAME:PDT
DTSTART:20260308T100000
END:DAYLIGHT
BEGIN:STANDARD
TZOFFSETFROM:-0700
TZOFFSETTO:-0800
TZNAME:PST
DTSTART:20261101T090000
END:STANDARD
BEGIN:DAYLIGHT
TZOFFSETFROM:-0800
TZOFFSETTO:-0700
TZNAME:PDT
DTSTART:20270314T100000
END:DAYLIGHT
BEGIN:STANDARD
TZOFFSETFROM:-0700
TZOFFSETTO:-0800
TZNAME:PST
DTSTART:20271107T090000
END:STANDARD
BEGIN:DAYLIGHT
TZOFFSETFROM:-0800
TZOFFSETTO:-0700
TZNAME:PDT
DTSTART:20280312T100000
END:DAYLIGHT
BEGIN:STANDARD
TZOFFSETFROM:-0700
TZOFFSETTO:-0800
TZNAME:PST
DTSTART:20281105T090000
END:STANDARD
BEGIN:DAYLIGHT
TZOFFSETFROM:-0800
TZOFFSETTO:-0700
TZNAME:PDT
DTSTART:20290311T100000
END:DAYLIGHT
BEGIN:STANDARD
TZOFFSETFROM:-0700
TZOFFSETTO:-0800
TZNAME:PST
DTSTART:20291104T090000
END:STANDARD
END:VTIMEZONE
BEGIN:VEVENT
DTSTART;TZID=America/Vancouver:20270324T180000
DTEND;TZID=America/Vancouver:20270324T193000
DTSTAMP:20260421T171327
CREATED:20260327T100419Z
LAST-MODIFIED:20260422T000250Z
UID:7048-1805911200-1805916600@www.crschools.org
SUMMARY:Board Meeting
DESCRIPTION:
URL:https://www.crschools.org/ps/event/board-meeting-13/
LOCATION:Castle Rock High School\, 5180 Westside Hwy\, Castle Rock\, WA\, United States
CATEGORIES:District Events
END:VEVENT
BEGIN:VEVENT
DTSTART;TZID=America/Vancouver:20270428T180000
DTEND;TZID=America/Vancouver:20270428T193000
DTSTAMP:20260421T171327
CREATED:20250710T105019Z
LAST-MODIFIED:20260422T000250Z
UID:3739-1808935200-1808940600@www.crschools.org
SUMMARY:School Board Mtg.
DESCRIPTION:
URL:https://www.crschools.org/ps/event/school-board-mtg-29/
LOCATION:Castle Rock High School\, 5180 Westside Hwy\, Castle Rock\, WA\, United States
CATEGORIES:District Events
END:VEVENT
BEGIN:VEVENT
DTSTART;TZID=America/Vancouver:20270428T180000
DTEND;TZID=America/Vancouver:20270428T193000
DTSTAMP:20260421T171327
CREATED:20260327T100419Z
LAST-MODIFIED:20260422T000251Z
UID:7049-1808935200-1808940600@www.crschools.org
SUMMARY:Board Meeting
DESCRIPTION:
URL:https://www.crschools.org/ps/event/board-meeting-14/
LOCATION:Castle Rock High School\, 5180 Westside Hwy\, Castle Rock\, WA\, United States
CATEGORIES:District Events
END:VEVENT
BEGIN:VEVENT
DTSTART;TZID=America/Vancouver:20270526T180000
DTEND;TZID=America/Vancouver:20270526T193000
DTSTAMP:20260421T171327
CREATED:20250710T105019Z
LAST-MODIFIED:20260422T000251Z
UID:3740-1811354400-1811359800@www.crschools.org
SUMMARY:School Board Mtg.
DESCRIPTION:
URL:https://www.crschools.org/ps/event/school-board-mtg-30/
LOCATION:Castle Rock High School\, 5180 Westside Hwy\, Castle Rock\, WA\, United States
CATEGORIES:District Events
END:VEVENT
BEGIN:VEVENT
DTSTART;TZID=America/Vancouver:20270526T180000
DTEND;TZID=America/Vancouver:20270526T193000
DTSTAMP:20260421T171327
CREATED:20260327T100419Z
LAST-MODIFIED:20260422T000251Z
UID:7050-1811354400-1811359800@www.crschools.org
SUMMARY:Board Meeting
DESCRIPTION:
URL:https://www.crschools.org/ps/event/board-meeting-15/
LOCATION:Castle Rock High School\, 5180 Westside Hwy\, Castle Rock\, WA\, United States
CATEGORIES:District Events
END:VEVENT
BEGIN:VEVENT
DTSTART;TZID=America/Vancouver:20270623T180000
DTEND;TZID=America/Vancouver:20270623T193000
DTSTAMP:20260421T171327
CREATED:20250710T105019Z
LAST-MODIFIED:20260422T000251Z
UID:3741-1813773600-1813779000@www.crschools.org
SUMMARY:School Board Mtg.
DESCRIPTION:
URL:https://www.crschools.org/ps/event/school-board-mtg-31/
LOCATION:Castle Rock High School\, 5180 Westside Hwy\, Castle Rock\, WA\, United States
CATEGORIES:District Events
END:VEVENT
BEGIN:VEVENT
DTSTART;TZID=America/Vancouver:20270623T180000
DTEND;TZID=America/Vancouver:20270623T193000
DTSTAMP:20260421T171327
CREATED:20260327T100419Z
LAST-MODIFIED:20260422T000251Z
UID:7051-1813773600-1813779000@www.crschools.org
SUMMARY:Board Meeting
DESCRIPTION:
URL:https://www.crschools.org/ps/event/board-meeting-16/
LOCATION:Castle Rock High School\, 5180 Westside Hwy\, Castle Rock\, WA\, United States
CATEGORIES:District Events
END:VEVENT
BEGIN:VEVENT
DTSTART;TZID=America/Vancouver:20270728T180000
DTEND;TZID=America/Vancouver:20270728T193000
DTSTAMP:20260421T171327
CREATED:20250729T113353Z
LAST-MODIFIED:20260422T000251Z
UID:3881-1816797600-1816803000@www.crschools.org
SUMMARY:School Board Mtg.
DESCRIPTION:
URL:https://www.crschools.org/ps/event/school-board-mtg-32/
LOCATION:Castle Rock High School\, 5180 Westside Hwy\, Castle Rock\, WA\, United States
CATEGORIES:District Events
END:VEVENT
BEGIN:VEVENT
DTSTART;TZID=America/Vancouver:20270728T180000
DTEND;TZID=America/Vancouver:20270728T193000
DTSTAMP:20260421T171327
CREATED:20260327T100420Z
LAST-MODIFIED:20260422T000251Z
UID:7052-1816797600-1816803000@www.crschools.org
SUMMARY:Board Meeting
DESCRIPTION:
URL:https://www.crschools.org/ps/event/board-meeting-17/
LOCATION:Castle Rock High School\, 5180 Westside Hwy\, Castle Rock\, WA\, United States
CATEGORIES:District Events
END:VEVENT
BEGIN:VEVENT
DTSTART;TZID=America/Vancouver:20270825T180000
DTEND;TZID=America/Vancouver:20270825T193000
DTSTAMP:20260421T171327
CREATED:20250826T124740Z
LAST-MODIFIED:20260422T000251Z
UID:4093-1819216800-1819222200@www.crschools.org
SUMMARY:School Board Mtg.
DESCRIPTION:
URL:https://www.crschools.org/ps/event/school-board-mtg-33/
LOCATION:Castle Rock High School\, 5180 Westside Hwy\, Castle Rock\, WA\, United States
CATEGORIES:District Events
END:VEVENT
BEGIN:VEVENT
DTSTART;TZID=America/Vancouver:20270825T180000
DTEND;TZID=America/Vancouver:20270825T193000
DTSTAMP:20260421T171327
CREATED:20260327T100420Z
LAST-MODIFIED:20260422T000251Z
UID:7053-1819216800-1819222200@www.crschools.org
SUMMARY:Board Meeting
DESCRIPTION:
URL:https://www.crschools.org/ps/event/board-meeting-18/
LOCATION:Castle Rock High School\, 5180 Westside Hwy\, Castle Rock\, WA\, United States
CATEGORIES:District Events
END:VEVENT
BEGIN:VEVENT
DTSTART;TZID=America/Vancouver:20270922T180000
DTEND;TZID=America/Vancouver:20270922T193000
DTSTAMP:20260421T171327
CREATED:20250923T130253Z
LAST-MODIFIED:20260422T000251Z
UID:4453-1821636000-1821641400@www.crschools.org
SUMMARY:School Board Mtg.
DESCRIPTION:
URL:https://www.crschools.org/ps/event/school-board-mtg-34/
LOCATION:Castle Rock High School\, 5180 Westside Hwy\, Castle Rock\, WA\, United States
CATEGORIES:District Events
END:VEVENT
BEGIN:VEVENT
DTSTART;TZID=America/Vancouver:20270922T180000
DTEND;TZID=America/Vancouver:20270922T193000
DTSTAMP:20260421T171327
CREATED:20260327T100420Z
LAST-MODIFIED:20260422T000251Z
UID:7055-1821636000-1821641400@www.crschools.org
SUMMARY:Board Meeting
DESCRIPTION:
URL:https://www.crschools.org/ps/event/board-meeting-19/
LOCATION:Castle Rock High School\, 5180 Westside Hwy\, Castle Rock\, WA\, United States
CATEGORIES:District Events
END:VEVENT
BEGIN:VEVENT
DTSTART;TZID=America/Vancouver:20271027T180000
DTEND;TZID=America/Vancouver:20271027T193000
DTSTAMP:20260421T171327
CREATED:20251028T160244Z
LAST-MODIFIED:20260422T000251Z
UID:5043-1824660000-1824665400@www.crschools.org
SUMMARY:School Board Mtg.
DESCRIPTION:
URL:https://www.crschools.org/ps/event/school-board-mtg-35/
LOCATION:Castle Rock High School\, 5180 Westside Hwy\, Castle Rock\, WA\, United States
CATEGORIES:District Events
END:VEVENT
BEGIN:VEVENT
DTSTART;TZID=America/Vancouver:20271027T180000
DTEND;TZID=America/Vancouver:20271027T193000
DTSTAMP:20260421T171327
CREATED:20260327T100420Z
LAST-MODIFIED:20260422T000252Z
UID:7056-1824660000-1824665400@www.crschools.org
SUMMARY:Board Meeting
DESCRIPTION:
URL:https://www.crschools.org/ps/event/board-meeting-20/
LOCATION:Castle Rock High School\, 5180 Westside Hwy\, Castle Rock\, WA\, United States
CATEGORIES:District Events
END:VEVENT
BEGIN:VEVENT
DTSTART;TZID=America/Vancouver:20271124T180000
DTEND;TZID=America/Vancouver:20271124T193000
DTSTAMP:20260421T171327
CREATED:20260327T100420Z
LAST-MODIFIED:20260422T000252Z
UID:7057-1827079200-1827084600@www.crschools.org
SUMMARY:Board Meeting
DESCRIPTION:
URL:https://www.crschools.org/ps/event/board-meeting-21/
LOCATION:Castle Rock High School\, 5180 Westside Hwy\, Castle Rock\, WA\, United States
CATEGORIES:District Events
END:VEVENT
BEGIN:VEVENT
DTSTART;TZID=America/Vancouver:20271222T180000
DTEND;TZID=America/Vancouver:20271222T193000
DTSTAMP:20260421T171327
CREATED:20260327T100421Z
LAST-MODIFIED:20260422T000252Z
UID:7058-1829498400-1829503800@www.crschools.org
SUMMARY:Board Meeting
DESCRIPTION:
URL:https://www.crschools.org/ps/event/board-meeting-22/
LOCATION:Castle Rock High School\, 5180 Westside Hwy\, Castle Rock\, WA\, United States
CATEGORIES:District Events
END:VEVENT
BEGIN:VEVENT
DTSTART;TZID=America/Vancouver:20280126T180000
DTEND;TZID=America/Vancouver:20280126T193000
DTSTAMP:20260421T171327
CREATED:20260327T100421Z
LAST-MODIFIED:20260422T000252Z
UID:7059-1832522400-1832527800@www.crschools.org
SUMMARY:Board Meeting
DESCRIPTION:
URL:https://www.crschools.org/ps/event/board-meeting-23/
LOCATION:Castle Rock High School\, 5180 Westside Hwy\, Castle Rock\, WA\, United States
CATEGORIES:District Events
END:VEVENT
BEGIN:VEVENT
DTSTART;TZID=America/Vancouver:20280223T180000
DTEND;TZID=America/Vancouver:20280223T193000
DTSTAMP:20260421T171327
CREATED:20260327T100421Z
LAST-MODIFIED:20260422T000252Z
UID:7060-1834941600-1834947000@www.crschools.org
SUMMARY:Board Meeting
DESCRIPTION:
URL:https://www.crschools.org/ps/event/board-meeting-24/
LOCATION:Castle Rock High School\, 5180 Westside Hwy\, Castle Rock\, WA\, United States
CATEGORIES:District Events
END:VEVENT
BEGIN:VEVENT
DTSTART;TZID=America/Vancouver:20280322T180000
DTEND;TZID=America/Vancouver:20280322T193000
DTSTAMP:20260421T171327
CREATED:20260327T100421Z
LAST-MODIFIED:20260422T000252Z
UID:7061-1837360800-1837366200@www.crschools.org
SUMMARY:Board Meeting
DESCRIPTION:
URL:https://www.crschools.org/ps/event/board-meeting-25/
LOCATION:Castle Rock High School\, 5180 Westside Hwy\, Castle Rock\, WA\, United States
CATEGORIES:District Events
END:VEVENT
END:VCALENDAR