BEGIN:VCALENDAR
VERSION:2.0
PRODID:-//Castle Rock Middle School - ECPv6.15.20//NONSGML v1.0//EN
CALSCALE:GREGORIAN
METHOD:PUBLISH
X-ORIGINAL-URL:https://www.crschools.org/ms
X-WR-CALDESC:Events for Castle Rock Middle School
REFRESH-INTERVAL;VALUE=DURATION:PT1H
X-Robots-Tag:noindex
X-PUBLISHED-TTL:PT1H
BEGIN:VTIMEZONE
TZID:America/Vancouver
BEGIN:DAYLIGHT
TZOFFSETFROM:-0800
TZOFFSETTO:-0700
TZNAME:PDT
DTSTART:20230312T100000
END:DAYLIGHT
BEGIN:STANDARD
TZOFFSETFROM:-0700
TZOFFSETTO:-0800
TZNAME:PST
DTSTART:20231105T090000
END:STANDARD
BEGIN:DAYLIGHT
TZOFFSETFROM:-0800
TZOFFSETTO:-0700
TZNAME:PDT
DTSTART:20240310T100000
END:DAYLIGHT
BEGIN:STANDARD
TZOFFSETFROM:-0700
TZOFFSETTO:-0800
TZNAME:PST
DTSTART:20241103T090000
END:STANDARD
BEGIN:DAYLIGHT
TZOFFSETFROM:-0800
TZOFFSETTO:-0700
TZNAME:PDT
DTSTART:20250309T100000
END:DAYLIGHT
BEGIN:STANDARD
TZOFFSETFROM:-0700
TZOFFSETTO:-0800
TZNAME:PST
DTSTART:20251102T090000
END:STANDARD
END:VTIMEZONE
BEGIN:VEVENT
DTSTART;TZID=America/Vancouver:20241205T180000
DTEND;TZID=America/Vancouver:20241205T190000
DTSTAMP:20260421T003706
CREATED:20241120T151046Z
LAST-MODIFIED:20241205T161250Z
UID:2670-1733421600-1733425200@www.crschools.org
SUMMARY:4th Grade Winter Concert
DESCRIPTION:
URL:https://www.crschools.org/ms/event/4th-grade-winter-concert/
LOCATION:Castle Rock Elementary School\, 700 Huntington Ave S\, Castle Rock\, WA\, United States
CATEGORIES:District Events
END:VEVENT
END:VCALENDAR