BEGIN:VCALENDAR
VERSION:2.0
PRODID:-//Castle Rock High School - ECPv6.15.20//NONSGML v1.0//EN
CALSCALE:GREGORIAN
METHOD:PUBLISH
X-ORIGINAL-URL:https://www.crschools.org/hs
X-WR-CALDESC:Events for Castle Rock High School
REFRESH-INTERVAL;VALUE=DURATION:PT1H
X-Robots-Tag:noindex
X-PUBLISHED-TTL:PT1H
BEGIN:VTIMEZONE
TZID:America/Vancouver
BEGIN:DAYLIGHT
TZOFFSETFROM:-0800
TZOFFSETTO:-0700
TZNAME:PDT
DTSTART:20250309T100000
END:DAYLIGHT
BEGIN:STANDARD
TZOFFSETFROM:-0700
TZOFFSETTO:-0800
TZNAME:PST
DTSTART:20251102T090000
END:STANDARD
BEGIN:DAYLIGHT
TZOFFSETFROM:-0800
TZOFFSETTO:-0700
TZNAME:PDT
DTSTART:20260308T100000
END:DAYLIGHT
BEGIN:STANDARD
TZOFFSETFROM:-0700
TZOFFSETTO:-0800
TZNAME:PST
DTSTART:20261101T090000
END:STANDARD
BEGIN:DAYLIGHT
TZOFFSETFROM:-0800
TZOFFSETTO:-0700
TZNAME:PDT
DTSTART:20270314T100000
END:DAYLIGHT
BEGIN:STANDARD
TZOFFSETFROM:-0700
TZOFFSETTO:-0800
TZNAME:PST
DTSTART:20271107T090000
END:STANDARD
END:VTIMEZONE
BEGIN:VEVENT
DTSTART;TZID=America/Vancouver:20260504T150000
DTEND;TZID=America/Vancouver:20260504T163000
DTSTAMP:20260425T070252
CREATED:20260312T090857Z
LAST-MODIFIED:20260425T060923Z
UID:7385-1777906800-1777912200@www.crschools.org
SUMMARY:Boys Varsity Baseball @ Toutle Lake High School
DESCRIPTION:Sport: Baseball\nLevel: Boys Varsity\nTeam: Castle Rock High School\nSite: Toutle Lake High School\nSubsite: Baseball Field
URL:https://www.crschools.org/hs/event/boys-varsity-baseball-toutle-lake-high-school/
LOCATION:5050 Spirit Lake Hwy\, Toutle\, WA\, United States
CATEGORIES:District Events
END:VEVENT
BEGIN:VEVENT
DTSTART;TZID=America/Vancouver:20260504T153000
DTEND;TZID=America/Vancouver:20260504T173000
DTSTAMP:20260425T070252
CREATED:20260331T104044Z
LAST-MODIFIED:20260425T060922Z
UID:7837-1777908600-1777915800@www.crschools.org
SUMMARY:MS Track - home
DESCRIPTION:Join with Google Meet: https://meet.google.com/qon-eetb-qpu\nOr dial: (US) +1 925-471-6274 PIN: 334877675#\nMore phone numbers: https://tel.meet/qon-eetb-qpu?pin=9948709225758&hs=7\nLearn more about Meet at: https://support.google.com/a/users/answer/9282720
URL:https://www.crschools.org/hs/event/ms-track-home/
LOCATION:Castle Rock High School\, 5180 Westside Hwy\, Castle Rock\, WA\, United States
CATEGORIES:District Events
END:VEVENT
BEGIN:VEVENT
DTSTART;TZID=America/Vancouver:20260504T170000
DTEND;TZID=America/Vancouver:20260504T183000
DTSTAMP:20260425T070252
CREATED:20260312T090858Z
LAST-MODIFIED:20260425T060922Z
UID:7386-1777914000-1777919400@www.crschools.org
SUMMARY:Boys JV Baseball @ Toutle Lake High School
DESCRIPTION:Sport: Baseball\nLevel: Boys JV\nTeam: Castle Rock High School\nSite: Toutle Lake High School\nSubsite: Baseball Field
URL:https://www.crschools.org/hs/event/boys-jv-baseball-toutle-lake-high-school/
LOCATION:5050 Spirit Lake Hwy\, Toutle\, WA\, United States
CATEGORIES:District Events
END:VEVENT
END:VCALENDAR