BEGIN:VCALENDAR
VERSION:2.0
PRODID:-//Castle Rock Primary School - ECPv6.15.20//NONSGML v1.0//EN
CALSCALE:GREGORIAN
METHOD:PUBLISH
X-WR-CALNAME:Castle Rock Primary School
X-ORIGINAL-URL:https://www.crschools.org/ps
X-WR-CALDESC:Events for Castle Rock Primary School
REFRESH-INTERVAL;VALUE=DURATION:PT1H
X-Robots-Tag:noindex
X-PUBLISHED-TTL:PT1H
BEGIN:VTIMEZONE
TZID:America/Vancouver
BEGIN:DAYLIGHT
TZOFFSETFROM:-0800
TZOFFSETTO:-0700
TZNAME:PDT
DTSTART:20250309T100000
END:DAYLIGHT
BEGIN:STANDARD
TZOFFSETFROM:-0700
TZOFFSETTO:-0800
TZNAME:PST
DTSTART:20251102T090000
END:STANDARD
BEGIN:DAYLIGHT
TZOFFSETFROM:-0800
TZOFFSETTO:-0700
TZNAME:PDT
DTSTART:20260308T100000
END:DAYLIGHT
BEGIN:STANDARD
TZOFFSETFROM:-0700
TZOFFSETTO:-0800
TZNAME:PST
DTSTART:20261101T090000
END:STANDARD
BEGIN:DAYLIGHT
TZOFFSETFROM:-0800
TZOFFSETTO:-0700
TZNAME:PDT
DTSTART:20270314T100000
END:DAYLIGHT
BEGIN:STANDARD
TZOFFSETFROM:-0700
TZOFFSETTO:-0800
TZNAME:PST
DTSTART:20271107T090000
END:STANDARD
END:VTIMEZONE
BEGIN:VEVENT
DTSTART;TZID=America/Vancouver:20260427T150000
DTEND;TZID=America/Vancouver:20260427T170000
DTSTAMP:20260421T070950
CREATED:20260312T082049Z
LAST-MODIFIED:20260421T044929Z
UID:6681-1777302000-1777309200@www.crschools.org
SUMMARY:Boys JV Baseball vs Heritage High School
DESCRIPTION:Sport: Baseball\nLevel: Boys JV\nTeam: Castle Rock High School\nSite: Castle Rock High School\nSubsite: Baseball – JV
URL:https://www.crschools.org/ps/event/boys-jv-baseball-vs-heritage-high-school/
LOCATION:5180 Westside Hwy\, Castle Rock\, WA\, United States
CATEGORIES:District Events
END:VEVENT
BEGIN:VEVENT
DTSTART;TZID=America/Vancouver:20260427T154500
DTEND;TZID=America/Vancouver:20260427T181500
DTSTAMP:20260421T070950
CREATED:20260331T102004Z
LAST-MODIFIED:20260421T044929Z
UID:7136-1777304700-1777313700@www.crschools.org
SUMMARY:MS Track Meet @ Cascade
DESCRIPTION:Join with Google Meet: https://meet.google.com/mei-sgqm-qtr\nOr dial: (US) +1 234-719-3543 PIN: 222606880#\nMore phone numbers: https://tel.meet/mei-sgqm-qtr?pin=5182544022051&hs=7\nLearn more about Meet at: https://support.google.com/a/users/answer/9282720
URL:https://www.crschools.org/ps/event/ms-track-meet-cascade-2/
LOCATION:Cascade Middle School\, 2821 Parkview Dr\, Longview\, WA\, United States
CATEGORIES:District Events
END:VEVENT
BEGIN:VEVENT
DTSTART;TZID=America/Vancouver:20260427T170000
DTEND;TZID=America/Vancouver:20260427T190000
DTSTAMP:20260421T070950
CREATED:20260312T082049Z
LAST-MODIFIED:20260421T044929Z
UID:6682-1777309200-1777316400@www.crschools.org
SUMMARY:Boys Varsity Baseball vs Heritage High School
DESCRIPTION:Sport: Baseball\nLevel: Boys Varsity\nTeam: Castle Rock High School\nSite: Castle Rock High School\nSubsite: Baseball – Varsity
URL:https://www.crschools.org/ps/event/boys-varsity-baseball-vs-heritage-high-school/
LOCATION:5180 Westside Hwy\, Castle Rock\, WA\, United States
CATEGORIES:District Events
END:VEVENT
END:VCALENDAR