BEGIN:VCALENDAR
VERSION:2.0
PRODID:-//Castle Rock Primary School - ECPv6.15.20//NONSGML v1.0//EN
CALSCALE:GREGORIAN
METHOD:PUBLISH
X-ORIGINAL-URL:https://www.crschools.org/ps
X-WR-CALDESC:Events for Castle Rock Primary School
REFRESH-INTERVAL;VALUE=DURATION:PT1H
X-Robots-Tag:noindex
X-PUBLISHED-TTL:PT1H
BEGIN:VTIMEZONE
TZID:America/Vancouver
BEGIN:DAYLIGHT
TZOFFSETFROM:-0800
TZOFFSETTO:-0700
TZNAME:PDT
DTSTART:20250309T100000
END:DAYLIGHT
BEGIN:STANDARD
TZOFFSETFROM:-0700
TZOFFSETTO:-0800
TZNAME:PST
DTSTART:20251102T090000
END:STANDARD
BEGIN:DAYLIGHT
TZOFFSETFROM:-0800
TZOFFSETTO:-0700
TZNAME:PDT
DTSTART:20260308T100000
END:DAYLIGHT
BEGIN:STANDARD
TZOFFSETFROM:-0700
TZOFFSETTO:-0800
TZNAME:PST
DTSTART:20261101T090000
END:STANDARD
BEGIN:DAYLIGHT
TZOFFSETFROM:-0800
TZOFFSETTO:-0700
TZNAME:PDT
DTSTART:20270314T100000
END:DAYLIGHT
BEGIN:STANDARD
TZOFFSETFROM:-0700
TZOFFSETTO:-0800
TZNAME:PST
DTSTART:20271107T090000
END:STANDARD
END:VTIMEZONE
BEGIN:VEVENT
DTSTART;TZID=America/Vancouver:20260505T153000
DTEND;TZID=America/Vancouver:20260505T170000
DTSTAMP:20260423T102912
CREATED:20260312T082051Z
LAST-MODIFIED:20260422T003249Z
UID:6708-1777995000-1778000400@www.crschools.org
SUMMARY:Girls Varsity Softball vs Stevenson High School
DESCRIPTION:Sport: Softball\nLevel: Girls Varsity\nTeam: Castle Rock High School\nSite: Castle Rock High School\nSubsite: Softball – Varsity
URL:https://www.crschools.org/ps/event/girls-varsity-softball-vs-stevenson-high-school/
LOCATION:5180 Westside Hwy\, Castle Rock\, WA\, United States
CATEGORIES:District Events
END:VEVENT
BEGIN:VEVENT
DTSTART;TZID=America/Vancouver:20260505T153000
DTEND;TZID=America/Vancouver:20260505T171500
DTSTAMP:20260423T102912
CREATED:20260312T082051Z
LAST-MODIFIED:20260422T003249Z
UID:6703-1777995000-1778001300@www.crschools.org
SUMMARY:Boys Varsity Baseball @ Stevenson High School
DESCRIPTION:Sport: Baseball\nLevel: Boys Varsity\nTeam: Castle Rock High School\nSite: Wind River Middle School\nSubsite: Baseball Field
URL:https://www.crschools.org/ps/event/boys-varsity-baseball-stevenson-high-school/
LOCATION:441 Hot Springs Ave.\, Carson\, WA\, United States
CATEGORIES:District Events
END:VEVENT
BEGIN:VEVENT
DTSTART;TZID=America/Vancouver:20260505T173000
DTEND;TZID=America/Vancouver:20260505T191500
DTSTAMP:20260423T102912
CREATED:20260312T082051Z
LAST-MODIFIED:20260422T003249Z
UID:6705-1778002200-1778008500@www.crschools.org
SUMMARY:Boys JV Baseball @ Stevenson High School
DESCRIPTION:Sport: Baseball\nLevel: Boys JV\nTeam: Castle Rock High School\nSite: Wind River Middle School\nSubsite: Baseball Field
URL:https://www.crschools.org/ps/event/boys-jv-baseball-stevenson-high-school/
LOCATION:441 Hot Springs Ave.\, Carson\, WA\, United States
CATEGORIES:District Events
END:VEVENT
END:VCALENDAR